BEGIN:VCALENDAR
VERSION:2.0
CALSCALE:GREGORIAN
PRODID:adamgibbons/ics
METHOD:PUBLISH
X-PUBLISHED-TTL:PT1H
BEGIN:VEVENT
UID:6741@gancio.cisti.org
SUMMARY:25 aprile. Contro la guerra\, il fascismo\, la repressione
DTSTAMP:20260423T180722Z
DTSTART:20260425T130000Z
DTEND:20260425T153000Z
DESCRIPTION:CONTRO LA GUERRA\, IL FASCISMO\, LA REPRESSIONE PER LA RIVOLUZI
	ONE SOCIALE\n\n\n\n\nSABATO 25 APRILE\n\n\nORE 15\n\n\nALLA LAPIDE DEL PAR
	TIGIANO ANARCHICO\n\n\nILIO BARONI\n\n\nIN CORSO GIULIO CESARE ANGOLO CORS
	O NOVARA DOVE ILIO CADDE COMBATTENDO IL 26\nAPRILE 1945.\n\n\n\n\nRICORDO\
	, INTERVENTI\, BICCHIERATA\, FIORI\, MUSICA.\n\n\n\n\nE\, DAL VIVO\, IL CO
	R’OKKIO NEL CANZONIERE ANARCHICO E ANTIFASCISTA\n\n\n(SE PIOVE APPUNTAMENT
	O IN PIAZZA CRISPI).\n\n\n\n\nCOME OGNI ANNO CI RITROVIAMO ALLA LAPIDE CHE
	 RICORDA ILIO BARONI\, PARTIGIANO\nANARCHICO.\n\n\n\n\nOGGI PIÙ CHE MAI RI
	TROVARCI IN QUELL’ANGOLO DI PERIFERIA\, DOVE CADDE COMBATTENDO\nBARONI\, N
	ON È MERO ESERCIZIO DI MEMORIA\, MA OCCASIONE PER INTRECCIARE I FILI\nDELL
	E LOTTE\, PERCHÉ IL TESTIMONE LASCIATO DA CHI NON C’È PIÙ È ORA NELLE NOST
	RE\nMANI.\n\n\n\n\nILIO BARONI\, OPERAIO TOSCANO EMIGRATO A TORINO NEGLI A
	NNI VENTI\, ERA COMANDANTE\nDELLA VII BRIGATA SAP DELLE FERRIERE. LE SAP S
	ABOTAVANO LA PRODUZIONE\,\nDIFFONDEVANO CLANDESTINAMENTE VOLANTINI ANTIFAS
	CISTI E SI PREPARAVANO\nALL’INSURREZIONE. ILIO\, NOME DI BATTAGLIA ”IL MOR
	O”\, È PROTAGONISTA DI AZIONI DI\nGUERRIGLIA.\n\n\n\n\nIL 25 APRILE TORINO
	 È PARALIZZATA DALLO SCIOPERO GENERALE\, SCOPPIA\nL’INSURREZIONE\, LA CITT
	À DIVENTA UN CAMPO DI BATTAGLIA.\n\n\nBARONI E I SUOI ATTACCANO LA STAZION
	E DORA E SI GUADAGNANO UN SUCCESSO. GIUNGE\nUNA RICHIESTA D’AIUTO DALLA GR
	ANDI MOTORI. IL MORO NON ESITA AD AIUTARE I\nCOMPAGNI NEL MEZZO DI UNA BAT
	TAGLIA FURIOSA\, E CADE SOTTO IL FUOCO.\n\n\nÈ IL 26 APRILE. ILIO BARONI N
	ON POTRÀ VEDERE IL MOMENTO PER CUI HA LOTTATO\nDURAMENTE TUTTA LA VITA…\n\
	n\n\n\nBARONI E GLI ALTRI OPERAI IN ARMI DIFESERO LE FABBRICHE DALLA DISTR
	UZIONE\,\nPERCHÉ ERA VIVA IN LORO LA MEMORIA DEGLI ANNI VENTI\, DELL’OCCUP
	AZIONE DELLE\nFABBRICHE\, DELLA LOTTA IN ARMI PER CACCIARE PER SEMPRE I PA
	DRONI.\n\n\n\n\nMA IL FASCISMO NON È MORTO IL 25 APRILE DEL 1945…\n\n\n\n\
	nTRA SFRUTTAMENTO\, LAVORI PRECARI E PERICOLOSI\, MORTI IN MARE\, LEGGI RA
	ZZISTE\,\nMILITARI PER LE STRADE\, GUERRA\, LA DEMOCRAZIA SOMIGLIA SEMPRE 
	PIÙ AL FASCISMO.\nGLI EREDI DELLA DITTATURA OGGI SONO AL GOVERNO E\, GIORN
	O DOPO GIORNO\,\nMOLTIPLICANO LA STRETTA REPRESSIVA NEI CONFRONTI DI POVER
	 E OPPOSITOR POLITIC E\nSOCIAL.\n\n\n\n\nLA DEMOCRAZIA NATA DALLA RESISTEN
	ZA NON HA MAI FATTO I CONTI CON IL FASCISMO\, I\nCUI MACELLAI VENNERO AMNI
	STIATI DAL MINISTRO DELLA GIUSTIZIA\, IL "COMUNISTA"\nPALMIRO TOGLIATTI.\n
	\n\nOGGI GLI EREDI DIRETTI DEL FASCISMO SONO AL GOVERNO E STANNO RESTAURAN
	DO IL\nFASCISMO. NON SERVE LA DITTATURA FORMALE PER CANCELLARE GLI ESILI M
	ARGINI DI\nLIBERTÀ CONCESSI A PREZZO DI LOTTE DURATE UN SECOLO.\n\n\n\n\nA
	LLA VIGILIA DEL 25 APRILE HANNO APPROVATO IL FERMO PREVENTIVO PER GLI ATTI
	VISTI\nPOLITICI INVISI AL GOVERNO.\n\n\n\n\nMELONI COME MUSSOLINI: LE LEGG
	I SPECIALI DEL 1926 SONO DIVENTATE\, PASSO DOPO\nPASSO LE LEGGI "NORMALI" 
	DEL 2026.\n\n\n\n\nIL GOVERNO CONDANNA A MORTE I MIGRANTI CON IL BLOCCO NA
	VALE E METTE AL CONFINO\n(DASPO\, FOGLI DI VIA\, SORVEGLIANZA SPECIALE\, S
	EQUESTRO PREVENTIVO) GLI\nANTIFASCISTI.\n\n\n\n\nOGGI LA GENTE DI BARRIERA
	 HA VOLTI E STORIE DIVERSE MA LA STESSA CONDIZIONE DI\nSFRUTTAMENTO E OPPR
	ESSIONE DI CHI COMBATTÉ IL FASCISMO PERCHÉ VOLEVA UNA SOCIETÀ\nSENZA STATO
	 NÉ PADRONI.\n\n\nLA FINE DEL FASCISMO NON PORTÒ LA VITA PER LA QUALE IN T
	ANTI AVEVANO LOTTATO ED\nERANO MORTI. MA IL FILO DELLE LOTTE NON SI È MAI 
	SPEZZATO.\n\n\n\n\nVIVERE IN PERIFERIA NON È MAI STATO FACILE. OGGI VA ANC
	ORA PEGGIO: OVUNQUE SI\nALLUNGANO LE FILE DEI SENZA CASA\, SENZA REDDITO\,
	 SENZA PROSPETTIVE. PER METTERE\nINSIEME IL PRANZO CON LA CENA IN TANTI SI
	 ADATTANO AD UNA MIRIADE DI LAVORI\nPRECARI\, SOTTOPAGATI\, IN NERO\, SENZ
	A TUTELE. OVUNQUE SI ALLUNGA LA LISTA DEI\nMORTI E DEI MUTILATI SUL LAVORO
	: OGNI ANNO CHE PASSA I RICCHI DIVENTANO ANCORA\nPIÙ RICCHI\, I POVERI SEM
	PRE PIÙ POVERI.\n\n\n\n\nIL PREZZO DELLE GUERRE CHE INSANGUINANO IL PIANET
	A LO PAGHIAMO ANCHE QUI.\n\n\nIL PREZZO DI GAS E LUCE È RADDOPPIATO\, TANT
	A GENTE È SOTTO SFRATTO O CON LA CASA\nMESSA ALL’ASTA. LA SALUTE È UNA MER
	CE DI LUSSO CHE POSSONO PERMETTERSI IN POCHI.\n\n\n\n\nBARRIERA DI MILANO\
	, ORMAI DA ANNI\, È DIVENUTA UN LABORATORIO DOVE SPERIMENTARE\nTECNICHE DI
	 CONTROLLO SOCIALE PRIMA IMPENSABILI\, PUR DI NON SPENDERE UN SOLDO\nPER L
	A CASA\, LA SANITÀ\, I TRASPORTI\, LE SCUOLE. IN QUESTI ANNI LA SPESA MILI
	TARE\nÈ COSTANTEMENTE AUMENTATA\, LE MISSIONI ALL’ESTERO DELLE FORZE ARMAT
	E ITALIANE SI\nSONO MOLTIPLICATE.\n\n\n\n\nI FASCISTI AL GOVERNO SOFFIANO 
	SUL FUOCO DELLA GUERRA TRA POVERI ITALIANI E\nPOVERI IMMIGRATI\, PER AVERE
	 MANO LIBERA A FARE LA GUERRA A NOI TUTTI.\n\n\n\n\nNEI QUARTIERI POVERI I
	L CONTROLLO MILITARE È DIVENTATO NORMALE. INTERE AREE DEL\nQUARTIERE VENGO
	NO MESSE SOTTO ASSEDIO\, CON CONTINUE RETATE DI PERSONE SENZA\nDOCUMENTI O
	 CHE VIVONO GRAZIE AD UN’ECONOMIA INFORMALE. I MILITARI\nDELL’OPERAZIONE “
	STRADE SICURE” OFFRONO UN’ILLUSIONE DI SICUREZZA A CHI FATICA\nAD ARRIVARE
	 A FINE MESE E NON RIESCE A PAGARSI LA CASA O UNA VISITA PRIVATA DAL\nMEDI
	CO.\n\n\n\n\nTORINO DA CITTÀ DELL’AUTO SI STA TRASFORMANDO IN CITTÀ DEI BO
	MBARDIERI E VETRINA\nPER TURISTI. UNA VETRINA CHE I POVERI CHE PASSANO ORE
	 AI GIARDINETTI NON DEVONO\nSPORCARE. L’ASPIRAZIONE AD AVERE UNA SOCIALITÀ
	 NON MERCIFICATA VA REPRESSA. IL\nGOVERNO A TUTTI I LIVELLI PUNTA IL DITO 
	SULLE PERSONE PIÙ POVERE\, RAZZIALIZZATE\,\nCON IL CONTINUO RICATTO DEI DO
	CUMENTI\, PER NASCONDERE LA GUERRA SOCIALE CHE HA\nSCATENATO CONTRO TUTTI 
	I POVERI\, ITALIANI E NATI ALTROVE\, SCHIERANDOSI A FIANCO\nDEI PADRONI GR
	ANDI E PICCOLI.\n\n\nIL CONTROLLO ETNICAMENTE MIRATO DEL TERRITORIO MIRA A
	 REPRIMERE SUL NASCERE OGNI\nPOSSIBILE INSORGENZA SOCIALE.\n\n\nCOME ANARC
	HICI RADICATI NEL QUARTIERE DA OLTRE QUARANT’ANNI\, PROVIAMO A\nCOSTRUIRE 
	RETI SOLIDALI\, INIZIATIVE DI INFORMAZIONE\, LOTTA\, SOCIALITÀ NEGLI\nSPAZ
	I MESSI SOTTO ASSEDIO DALLA POLIZIA\, IN QUELLI MINACCIATI DI SGOMBERO O\n
	SFRATTO.\n\n\n\n\nCON LA LOTTA\, LA SOLIDARIETÀ IL MUTUO APPOGGIO\, POSSIA
	MO FAR SI CHE LE NOSTRE\nVITE DIVENTINO MIGLIORI. RIPRENDIAMOCI GLI SPAZI 
	DEL QUARTIERE MILITARIZZATI E\nRESI DESERTI DALLA POLIZIA E DAI MILITARI. 
	PROVIAMO AD IMMAGINARE DI FARLA\nFINITA\, SIN DA ORA\, CON STATO\, PADRONI
	\, MILITARI\, POLIZIA.\n\n\n\n\nCI RACCONTANO LA FAVOLA CHE UNA SOCIETÀ CO
	MPLESSA È INGOVERNABILE DAL BASSO\nMENTRE CI ANNEGANO NEL CAOS DELLA GESTI
	ONE CENTRALIZZATA E BUROCRATICA DELLE\nSCUOLE\, DEGLI OSPEDALI\, DEI TRASP
	ORTI.\n\n\nCOSTRUIRE ASSEMBLEE TERRITORIALI\, SPAZI\, SCUOLE\, TRASPORTI\,
	 AMBULATORI\nAUTOGESTITI NON È UN’UTOPIA MA L’UNICO ORIZZONTE POSSIBILE PE
	R LIBERARCI DALLO\nSTATO E DAL CAPITALISMO.\n\n\nLA SICUREZZA È CASA\, RED
	DITO\, SANITÀ PER TUTTE E TUTTI\, NON SOLDATI PER PER LE\nSTRADE!\n\n\n\n\
	nLA MEMORIA NON È UN ESERCIZIO RETORICO\, MA LINFA CHE SI ESPANDE TRA LE L
	OTTE DI\nIERI E QUELLE DI OGGI.\n\n\n\n\nDA DECENNI HANNO IMBALSAMATO LA R
	ESISTENZA RIDUCENDOLA A MERA LOTTA DI\nLIBERAZIONE NAZIONALE\, PER CANCELL
	ARNE LA SPINTA SOVVERSIVA\, INTERNAZIONALISTA\,\nCONTRO STATO E PADRONI.\n
	\n\n\n\nOGGI CI VORREBBERO TUTTI ARRUOLATI\, TUTTI SCHIERATI NELLE GUERRE 
	IN CUI IL\nNOSTRO PAESE È IMPEGNATO DIRETTAMENTE O INDIRETTAMENTE. NOI NON
	 CI STIAMO.\n\n\nNOI NON CI ARRUOLIAMO\, RIFIUTIAMO LA RETORICA PATRIOTTIC
	A COME ELEMENTO DI\nLEGITTIMAZIONE DI TUTTI GLI STATI E DELLE LORO PRETESE
	 ESPANSIONISTICHE.\n\n\n\n\nL’ANTIMILITARISMO\, L’INTERNAZIONALISMO\, IL D
	ISFATTISMO RIVOLUZIONARIO SONO STATI\nCENTRALI NELLE LOTTE DEL MOVIMENTO D
	EI LAVORATORI E DELLE LAVORATRICI SIN DALLE\nSUE ORIGINI. SFRUTTAMENTO ED 
	OPPRESSIONE COLPISCONO IN EGUAL MISURA A TUTTE LE\nLATITUDINI\, IL CONFLIT
	TO CONTRO I “PROPRI” PADRONI E CONTRO I “PROPRI”\nGOVERNANTI È IL MIGLIOR 
	MODO DI OPPORSI ALLA VIOLENZA STATALE E ALLA FEROCIA DEL\nCAPITALISMO IN O
	GNI DOVE.\n\n\n\n\nSIAMO A FIANCO DELLA GENTE CHE\, OVUNQUE NEL MONDO\, MU
	ORE SOTTO LE BOMBE\, SIAMO A\nFIANCO DI CHI\, OVUNQUE NEL MONDO\, SUBISCE 
	CARCERE E REPRESSIONE PER ESSERSI\nOPPOSTO ATTIVAMENTE ALLA GUERRA.\n\n\nS
	IAMO CONTRO L’ECONOMIA DI GUERRA QUI E OVUNQUE.\n\n\n\n\nSIAMO A FIANCO DI
	 CHI\, IN OGNI DOVE\, DISERTA LA GUERRA TRA GLI STATI\, CHE SI\nCONTENDONO
	 IL DOMINIO IMPERIALE SUI TERRITORI\, LE RISORSE\, LE VITE DI DONNE\,\nUOM
	INI E BAMBIN*.\n\n\nSIAMO CONTRO LA GUERRA E CHI LA ARMA.\n\n\nSIAMO DISER
	TORI DI OGNI GUERRA\, PARTIGIANI CONTRO OGNI STATO.\n\n\n\n\nI COMPAGNI E 
	LE COMPAGNE CHE LOTTARONO PER LE STRADE DI BARRIERA AVEVANO TRA LE\nMANI I
	L SOGNO DI FARLA FINITA CON OPPRESSIONE E POVERTÀ.\n\n\nERANO QUELLI COME 
	ILIO BARONI\, OPERAIO ALLE FERRIERE\, CHE CADDE COMBATTENDO PER\nL’ANARCHI
	A.\n\n\nLA LORO MEMORIA RESTA VIVA NELLE NOSTRE MANI.\n\n\nÈ UN IMPEGNO CO
	STANTEMENTE RINNOVATO. È UNA RESPONSABILITÀ INELUDIBILE.\n\n\n\n\nIL 25 AP
	RILE\, DOPO L'INIZIATIVA IN BARRIERA PORTEREMO LA DISTRO AI GIARDINI\nREAL
	I.\n\n\n\n\nA CIRIÈ SPEZZONE ANARCHICO AL CORTEO DEL 25 APRILE: ORE 20\,30
	 PIAZZA CASTELLO\n\n\n\n\nPRIMO MAGGIO ANARCHICO\n\n\nVENERDÌ 1 MAGGIO\n\n
	\nORE 9 PIAZZA VITTORIO\n\n\nSPEZZONE ANTIMILITARISTA\n\n\nCONTRO TUTTE LE
	 PATRIE PER UN MONDO SENZA FRONTIERE!\n\n\nPACE TRA GLI OPPRESSI\, GUERRA 
	AGLI OPPRESSORI!\n\n\n\n\nFEDERAZIONE ANARCHICA TORINESE\n\n\nCORSO PALERM
	O 46 - RIUNIONI OGNI MARTEDÌ ALLE 20\,30\n\n\n
URL:https://gancio.cisti.org/event/25-aprile-contro-la-guerra-il-fascismo-l
	a-repressione
LOCATION:lapide del partigiano anarchico Ilio Baroni - corso Giulio Cesare 
	angolo corso Novara
STATUS:CONFIRMED
CATEGORIES:25 aprile,25 Aprile,antifascismo,antimilitarista,presidio,Presid
	io
X-ALT-DESC;FMTTYPE=text/html:<h3>Contro la guerra, il fascismo, la repressi
	one per la rivoluzione sociale</h3><p></p><h3>Sabato 25 aprile </h3><h3>or
	e 15</h3><h3>alla lapide del partigiano anarchico </h3><h3>Ilio Baroni </h
	3><h3>in corso Giulio Cesare angolo corso Novara dove Ilio cadde combatten
	do il 26 aprile 1945.</h3><p></p><h3>Ricordo, interventi, bicchierata, fio
	ri, musica.</h3><p></p><h3>E, dal vivo, il Cor’okkio nel canzoniere anarch
	ico e antifascista</h3><h3>(Se piove appuntamento in piazza Crispi).</h3><
	p></p><h3>Come ogni anno ci ritroviamo alla lapide che ricorda Ilio Baroni
	, partigiano anarchico. </h3><p></p><h3>Oggi più che mai ritrovarci in que
	ll’angolo di periferia, dove cadde combattendo Baroni, non è mero esercizi
	o di memoria, ma occasione per intrecciare i fili delle lotte, perché il t
	estimone lasciato da chi non c’è più è ora nelle nostre mani. </h3><p></p>
	<h3>Ilio Baroni, operaio toscano emigrato a Torino negli anni venti, era c
	omandante della VII brigata Sap delle Ferriere. Le Sap sabotavano la produ
	zione, diffondevano clandestinamente volantini antifascisti e si preparava
	no all’insurrezione. Ilio, nome di battaglia ”il Moro”, è protagonista di 
	azioni di guerriglia.</h3><p></p><h3>Il 25 aprile Torino è paralizzata dal
	lo sciopero generale, scoppia l’insurrezione, la città diventa un campo di
	 battaglia.</h3><h3>Baroni e i suoi attaccano la stazione Dora e si guadag
	nano un successo. Giunge una richiesta d’aiuto dalla Grandi Motori. Il Mor
	o non esita ad aiutare i compagni nel mezzo di una battaglia furiosa, e ca
	de sotto il fuoco. </h3><h3>È il 26 aprile. Ilio Baroni non potrà vedere i
	l momento per cui ha lottato duramente tutta la vita…</h3><p></p><h3>Baron
	i e gli altri operai in armi difesero le fabbriche dalla distruzione, perc
	hé era viva in loro la memoria degli anni Venti, dell’occupazione delle fa
	bbriche, della lotta in armi per cacciare per sempre i padroni.</h3><p></p
	><h3>Ma il fascismo non è morto il 25 aprile del 1945…</h3><p></p><h3>Tra 
	sfruttamento, lavori precari e pericolosi, morti in mare, leggi razziste, 
	militari per le strade, guerra, la democrazia somiglia sempre più al fasci
	smo. Gli eredi della dittatura oggi sono al governo e, giorno dopo giorno,
	 moltiplicano la stretta repressiva nei confronti di pover<em> e oppositor
	</em> politic<em> e social</em>. </h3><p></p><h3>La democrazia nata dalla 
	Resistenza non ha mai fatto i conti con il fascismo, i cui macellai venner
	o amnistiati dal ministro della giustizia, il "comunista" Palmiro Togliatt
	i. </h3><h3>Oggi gli eredi diretti del fascismo sono al governo e stanno r
	estaurando il fascismo. Non serve la dittatura formale per cancellare gli 
	esili margini di libertà concessi a prezzo di lotte durate un secolo. </h3
	><p></p><h3>Alla vigilia del 25 aprile hanno approvato il fermo preventivo
	 per gli attivisti politici invisi al governo.</h3><p></p><h3>Meloni come 
	Mussolini: le leggi speciali del 1926 sono diventate, passo dopo passo le 
	leggi "normali" del 2026.</h3><p></p><h3>Il governo condanna a morte i mig
	ranti con il blocco navale e mette al confino (daspo, fogli di via, sorveg
	lianza speciale, sequestro preventivo) gli antifascisti. </h3><p></p><h3>O
	ggi la gente di Barriera ha volti e storie diverse ma la stessa condizione
	 di sfruttamento e oppressione di chi combatté il fascismo perché voleva u
	na società senza stato né padroni.</h3><h3>La fine del fascismo non portò 
	la vita per la quale in tanti avevano lottato ed erano morti. Ma il filo d
	elle lotte non si è mai spezzato.</h3><p></p><h3>Vivere in periferia non è
	 mai stato facile. Oggi va ancora peggio: ovunque si allungano le file dei
	 senza casa, senza reddito, senza prospettive. Per mettere insieme il pran
	zo con la cena in tanti si adattano ad una miriade di lavori precari, sott
	opagati, in nero, senza tutele. Ovunque si allunga la lista dei morti e de
	i mutilati sul lavoro:  ogni anno che passa i ricchi diventano ancora più 
	ricchi, i poveri sempre più poveri. </h3><p></p><h3>Il prezzo delle guerre
	 che insanguinano il pianeta lo paghiamo anche qui. </h3><h3>Il prezzo di 
	gas e luce è raddoppiato, tanta gente è sotto sfratto o con la casa messa 
	all’asta. La salute è una merce di lusso che possono permettersi in pochi.
	 </h3><p></p><h3>Barriera di Milano, ormai da anni, è divenuta un laborato
	rio dove sperimentare tecniche di controllo sociale prima impensabili, pur
	 di non spendere un soldo per la casa, la sanità, i trasporti, le scuole. 
	In questi anni la spesa militare è costantemente aumentata, le missioni al
	l’estero delle forze armate italiane si sono moltiplicate. </h3><p></p><h3
	>I fascisti al governo soffiano sul fuoco della guerra tra poveri italiani
	 e poveri immigrati, per avere mano libera a fare la guerra a noi tutti.</
	h3><p></p><h3>Nei quartieri poveri il controllo militare è diventato norma
	le. Intere aree del quartiere vengono messe sotto assedio, con continue re
	tate di persone senza documenti o che vivono grazie ad un’economia informa
	le. I militari dell’operazione “Strade Sicure” offrono un’illusione di sic
	urezza a chi fatica ad arrivare a fine mese e non riesce a pagarsi la casa
	 o una visita privata dal medico.   </h3><p></p><h3>Torino da città dell’a
	uto si sta trasformando in città dei bombardieri e vetrina per turisti. Un
	a vetrina che i poveri che passano ore ai giardinetti non devono sporcare.
	 L’aspirazione ad avere una socialità non mercificata va repressa. Il gove
	rno a tutti i livelli punta il dito sulle persone più povere, razzializzat
	e, con il continuo ricatto dei documenti, per nascondere la guerra sociale
	 che ha scatenato contro tutti i poveri, italiani e nati altrove, schieran
	dosi a fianco dei padroni grandi e piccoli.</h3><h3>Il controllo etnicamen
	te mirato del territorio mira a reprimere sul nascere ogni possibile insor
	genza sociale. </h3><h3>Come anarchici radicati nel quartiere da oltre qua
	rant’anni, proviamo a costruire reti solidali, iniziative di informazione,
	 lotta, socialità negli spazi messi sotto assedio dalla polizia, in quelli
	 minacciati di sgombero o sfratto.</h3><p></p><h3>Con la lotta, la solidar
	ietà il mutuo appoggio, possiamo far si che le nostre vite diventino migli
	ori. Riprendiamoci gli spazi del quartiere militarizzati e resi deserti da
	lla polizia e dai militari. Proviamo ad immaginare di farla finita, sin da
	 ora, con stato, padroni, militari, polizia. </h3><p></p><h3>Ci raccontano
	 la favola che una società complessa è ingovernabile dal basso mentre ci a
	nnegano nel caos della gestione centralizzata e burocratica delle scuole, 
	degli ospedali, dei trasporti.</h3><h3>Costruire assemblee territoriali, s
	pazi, scuole, trasporti, ambulatori autogestiti non è un’utopia ma l’unico
	 orizzonte possibile per liberarci dallo stato e dal capitalismo.</h3><h3>
	La sicurezza è casa, reddito, sanità per tutte e tutti, non soldati per pe
	r le strade!</h3><p></p><h3>La memoria non è un esercizio retorico, ma lin
	fa che si espande tra le lotte di ieri e quelle di oggi.</h3><p></p><h3>Da
	 decenni hanno imbalsamato la Resistenza riducendola a mera lotta di liber
	azione nazionale, per cancellarne la spinta sovversiva, internazionalista,
	 contro stato e padroni.</h3><p></p><h3>Oggi ci vorrebbero tutti arruolati
	, tutti schierati nelle guerre in cui il nostro paese è impegnato direttam
	ente o indirettamente. Noi non ci stiamo. </h3><h3>Noi non ci arruoliamo, 
	rifiutiamo la retorica patriottica come elemento di legittimazione di tutt
	i gli Stati e delle loro pretese espansionistiche. </h3><p></p><h3>L’antim
	ilitarismo, l’internazionalismo, il disfattismo rivoluzionario sono stati 
	centrali nelle lotte del movimento dei lavoratori e delle lavoratrici sin 
	dalle sue origini. Sfruttamento ed oppressione colpiscono in egual misura 
	a tutte le latitudini, il conflitto contro i “propri” padroni e contro i “
	propri” governanti è il miglior modo di opporsi alla violenza statale e al
	la ferocia del capitalismo in ogni dove.</h3><p></p><h3>Siamo a fianco del
	la gente che, ovunque nel mondo, muore sotto le bombe, siamo a fianco di c
	hi, ovunque nel mondo, subisce carcere e repressione per essersi opposto a
	ttivamente alla guerra. </h3><h3>Siamo contro l’economia di guerra qui e o
	vunque. </h3><p></p><h3>Siamo a fianco di chi, in ogni dove, diserta la gu
	erra tra gli stati, che si contendono il dominio imperiale sui territori, 
	le risorse, le vite di donne, uomini e bambin*.</h3><h3>Siamo contro la gu
	erra e chi la arma. </h3><h3>Siamo disertori di ogni guerra, partigiani co
	ntro ogni stato.</h3><p></p><h3>I compagni e le compagne che lottarono per
	 le strade di Barriera avevano tra le mani il sogno di farla finita con op
	pressione e povertà.</h3><h3>Erano quelli come Ilio Baroni, operaio alle F
	erriere, che cadde combattendo per l’anarchia.</h3><h3>La loro memoria res
	ta viva nelle nostre mani. </h3><h3>È un impegno costantemente rinnovato. 
	È una responsabilità ineludibile.</h3><p></p><h3>Il 25 aprile, dopo l'iniz
	iativa in Barriera porteremo la distro ai giardini reali. </h3><p></p><h3>
	A Ciriè spezzone anarchico al corteo del 25 aprile: ore 20,30 piazza Caste
	llo</h3><p></p><h3>Primo Maggio anarchico</h3><h3>Venerdì 1 maggio</h3><h3
	>ore 9 piazza Vittorio</h3><h3>Spezzone antimilitarista </h3><h3>Contro tu
	tte le patrie per un mondo senza frontiere!</h3><h3>Pace tra gli oppressi,
	 guerra agli oppressori!</h3><p></p><h3>Federazione Anarchica Torinese</h3
	><h3>Corso Palermo 46 - riunioni ogni martedì alle 20,30</h3><h3></h3>
BEGIN:VALARM
ACTION:DISPLAY
DESCRIPTION:25 aprile. Contro la guerra, il fascismo, la repressione
TRIGGER:-PT1H
END:VALARM
END:VEVENT
END:VCALENDAR
