BEGIN:VCALENDAR
VERSION:2.0
CALSCALE:GREGORIAN
PRODID:adamgibbons/ics
METHOD:PUBLISH
X-PUBLISHED-TTL:PT1H
BEGIN:VEVENT
UID:6745@gancio.cisti.org
SUMMARY:Abbiamo un problema che si chiama Webuild
DTSTAMP:20260424T135203Z
DTSTART:20260429T160000Z
DTEND:20260429T213000Z
DESCRIPTION:Abbiamo un problema che si chiama Webuild 29 aprile piazza diff
	usa Traduerivi\n(Susa) Ore 18:00 - passeggiata informativa sui terreni del
	l'interconnessione\,\ndal presidio di Traduerivi ai terreni di Farmacia Vi
	va. Partiamo puntuali! Ore\n19.30 - apericena (porta qualcosa da condivide
	re) Ore 21.00 - coordinamento No\nTav al presidio di Traduerivi https://ww
	w.facebook.com/share/p/1GyswJJkXo/\n[https://www.facebook.com/share/p/1Gys
	wJJkXo/]
URL:https://gancio.cisti.org/event/abbiamo-un-problema-che-si-chiama-webuil
	d
LOCATION:Frazione Traduerivi - -
STATUS:CONFIRMED
CATEGORIES:lotta,notav,valsusa
X-ALT-DESC;FMTTYPE=text/html:<p>Abbiamo un problema che si chiama Webuild  
	29 aprile piazza diffusa  Traduerivi (Susa) Ore 18:00 - passeggiata inform
	ativa sui terreni dell'interconnessione, dal presidio di Traduerivi ai ter
	reni di Farmacia Viva. Partiamo puntuali! Ore 19.30 - apericena (porta qua
	lcosa da condividere) Ore 21.00 - coordinamento No Tav al presidio di Trad
	uerivi  <a href="https://www.facebook.com/share/p/1GyswJJkXo/" target="_bl
	ank"><u>https://www.facebook.com/share/p/1GyswJJkXo/</u></a></p>
BEGIN:VALARM
ACTION:DISPLAY
DESCRIPTION:Abbiamo un problema che si chiama Webuild
TRIGGER:-PT1H
END:VALARM
END:VEVENT
END:VCALENDAR
