BEGIN:VCALENDAR
VERSION:2.0
CALSCALE:GREGORIAN
PRODID:adamgibbons/ics
METHOD:PUBLISH
X-PUBLISHED-TTL:PT1H
BEGIN:VEVENT
UID:6730@gancio.cisti.org
SUMMARY:Apertura Porfido
DTSTAMP:20260419T214433Z
DTSTART:20260422T140000Z
DTEND:20260422T173000Z
DESCRIPTION:Il Centro di Documentazione Porfido è aperto Martedì\, Mercoled
	ì e Sabato dalle\n16:00 alle 19:30.
URL:https://gancio.cisti.org/event/apertura-porfido-434
GEO:45.0714423;7.6962356
LOCATION:Centro di Documentazione Porfido - Via Tarino 12/c\, Torino
STATUS:CONFIRMED
CATEGORIES:
X-ALT-DESC;FMTTYPE=text/html:<p><strong>Il Centro di Documentazione Porfido
	 è aperto Martedì, Mercoledì e Sabato dalle 16:00 alle 19:30.</strong></p>
BEGIN:VALARM
ACTION:DISPLAY
DESCRIPTION:Apertura Porfido
TRIGGER:-PT1H
END:VALARM
END:VEVENT
END:VCALENDAR
