BEGIN:VCALENDAR
VERSION:2.0
CALSCALE:GREGORIAN
PRODID:adamgibbons/ics
METHOD:PUBLISH
X-PUBLISHED-TTL:PT1H
BEGIN:VEVENT
UID:6744@gancio.cisti.org
SUMMARY:Assemblea terrona transfemminista Torino
DTSTAMP:20260424T132603Z
DTSTART:20260429T171500Z
URL:https://gancio.cisti.org/event/assemblea-terrona-transfemminista-torino
GEO:45.0841871;7.6753501
LOCATION:Spazio Popolare Neruda - Corso Ciriè 7\, 10124\, Torino
STATUS:CONFIRMED
CATEGORIES:
BEGIN:VALARM
ACTION:DISPLAY
DESCRIPTION:Assemblea terrona transfemminista Torino
TRIGGER:-PT1H
END:VALARM
END:VEVENT
END:VCALENDAR
