BEGIN:VCALENDAR
VERSION:2.0
CALSCALE:GREGORIAN
PRODID:adamgibbons/ics
METHOD:PUBLISH
X-PUBLISHED-TTL:PT1H
BEGIN:VEVENT
UID:6749@gancio.cisti.org
SUMMARY:Radio Blackout Fest 2026
DTSTAMP:20260424T194429Z
DTSTART:20260612T160000Z
DTEND:20260614T215900Z
DESCRIPTION:Che rimanga inciso nella roccia\, siamo una anomalia collettiva
	 senza guinzaglio!\n\n\n\n\n🎉 🥂 QUEST'ANNO NE FACCIAMO TRENTAQUATTRO\n\nvi
	eni a festeggiare a Manituana\, dal 12 al 14 giugno!\n\nA breve tutte le i
	nfo!
URL:https://gancio.cisti.org/event/blackout-fest-2026
GEO:45.07977735;7.69865312007299
LOCATION:Manituana - Laboratorio Culturale Autogestito - Largo Maurizio Vit
	ale 113\, Torino
STATUS:CONFIRMED
CATEGORIES:Benefit radio blackout,Radio Blackout
X-ALT-DESC;FMTTYPE=text/html:<p>Che rimanga inciso nella roccia, siamo una 
	anomalia collettiva senza guinzaglio!</p><h1><br><br>🎉 🥂 quest'anno ne fac
	ciamo trentaquattro </h1><p>vieni a festeggiare a Manituana, dal 12 al 14 
	giugno!<br><br>A breve tutte le info!</p>
BEGIN:VALARM
ACTION:DISPLAY
DESCRIPTION:Radio Blackout Fest 2026
TRIGGER:-PT1H
END:VALARM
END:VEVENT
END:VCALENDAR
