BEGIN:VCALENDAR
VERSION:2.0
CALSCALE:GREGORIAN
PRODID:adamgibbons/ics
METHOD:PUBLISH
X-PUBLISHED-TTL:PT1H
BEGIN:VEVENT
UID:6724@gancio.cisti.org
SUMMARY:Cena sociale di quartiere GRAB
DTSTAMP:20260419T144602Z
DTSTART:20260421T180000Z
DTEND:20260421T215500Z
URL:https://gancio.cisti.org/event/cena-sociale-di-quartiere-grab-13
GEO:45.08433455;7.68700243440531
LOCATION:Giardino "Madre Teresa di Calcutta" (ingresso C.so Giulio Cesare) 
	- Circoscrizione 7\, Torino\, Piemonte\, 10152\, Italia
STATUS:CONFIRMED
CATEGORIES:
BEGIN:VALARM
ACTION:DISPLAY
DESCRIPTION:Cena sociale di quartiere GRAB
TRIGGER:-PT1H
END:VALARM
END:VEVENT
END:VCALENDAR
