BEGIN:VCALENDAR
VERSION:2.0
CALSCALE:GREGORIAN
PRODID:adamgibbons/ics
METHOD:PUBLISH
X-PUBLISHED-TTL:PT1H
BEGIN:VEVENT
UID:6734@gancio.cisti.org
SUMMARY:Dalle Belle città - La RESISTENZA VISTA DAGLI OCCHI DI UNA DONNA LI
	BERA\, MADRE IN APPRENSIONE PER IL FIGLIO PARTIGIANO
DTSTAMP:20260421T200308Z
DTSTART:20260422T183000Z
DTEND:20260422T203000Z
URL:https://gancio.cisti.org/event/dalle-belle-citta-la-resistenza-vista-da
	gli-occhi-di-una-donna-libera-madre-in-apprensione-per-il-figlio-partigian
	o
LOCATION:Libreria Comunardi - v. Bogino\, 2 Torino
STATUS:CONFIRMED
CATEGORIES:
BEGIN:VALARM
ACTION:DISPLAY
DESCRIPTION:Dalle Belle città - La RESISTENZA VISTA DAGLI OCCHI DI UNA DONN
	A LIBERA, MADRE IN APPRENSIONE PER IL FIGLIO PARTIGIANO
TRIGGER:-PT1H
END:VALARM
END:VEVENT
END:VCALENDAR
