BEGIN:VCALENDAR
VERSION:2.0
CALSCALE:GREGORIAN
PRODID:adamgibbons/ics
METHOD:PUBLISH
X-PUBLISHED-TTL:PT1H
BEGIN:VEVENT
UID:6736@gancio.cisti.org
SUMMARY:No Tav No Espropri
DTSTAMP:20260422T132751Z
DTSTART:20260422T060000Z
DTEND:20260422T110000Z
DESCRIPTION:Oggi acquisizione indebita di case e terreni da parte di Telt a
	i danni degli\nabitanti della piana di Susa. Ritrovo alle h.8.00 al presid
	io di San Giuliano\nper una mattinata di resistenza e condivisione!\n\nhtt
	ps://www.facebook.com/notav.info [https://www.facebook.com/notav.info]
URL:https://gancio.cisti.org/event/no-tav-no-espropri
LOCATION:Presidio No TAV San Giuliano di Susa - San Giuliano di Susa
STATUS:CONFIRMED
CATEGORIES:lotta,notav,valsusa
X-ALT-DESC;FMTTYPE=text/html:<p>Oggi acquisizione indebita di case e terren
	i da parte di Telt ai danni degli abitanti della piana di Susa.  Ritrovo a
	lle h.8.00 al presidio di San Giuliano per una mattinata di resistenza e c
	ondivisione!</p><p><a href="https://www.facebook.com/notav.info" target="_
	blank">https://www.facebook.com/notav.info</a></p>
BEGIN:VALARM
ACTION:DISPLAY
DESCRIPTION:No Tav No Espropri
TRIGGER:-PT1H
END:VALARM
END:VEVENT
END:VCALENDAR
