BEGIN:VCALENDAR
VERSION:2.0
CALSCALE:GREGORIAN
PRODID:adamgibbons/ics
METHOD:PUBLISH
X-PUBLISHED-TTL:PT1H
BEGIN:VEVENT
UID:6611@gancio.cisti.org
SUMMARY:Passeggiata Resistente
DTSTAMP:20260420T033653Z
DTSTART:20260419T080000Z
DTEND:20260419T150000Z
DESCRIPTION:Nella notte tra il 1 e il 2 aprile 1944 gli occupanti nazifasci
	sti commisero la\npiù grave strage che ebbe luogo nella nostra città.\n\n2
	7 partigiani e civili furono massacrati sulla collina torinese in località
	 Pian\ndel Lot\, dove erano installate le batterie antiaeree tedesche\, e 
	gettati in una\nfossa comune senza segni di riconoscimento.\n\nUna strage 
	commessa per annichilire ogni resistenza negli avversari\, con una\nferoci
	a crudele per condannare all’oblio chi osava opporsi proprio come oggi\nas
	sistiamo alla distruzione e al genocidio del popolo palestinese.\n\nAnche 
	quest’anno domenica 19 aprile 2026 torneremo a passeggiare e a raccontare\
	nla guerra di ieri per rivendicare il diritto alla memoria ed alla lotta\n
	antifascista e per ribadire con forza il nostro no ad ogni aggressione arm
	ata\noggi in corso.\n\nDi fronte ad un governo complice e partecipe oggi c
	ome allora deve essere il\npopolo a costruire un’opposizione dal basso per
	 fermare la follia di Trump e\nNetanyahu.\n\nVi aspettiamo in Piazza Zara 
	domenica 19 aprile 2026 alle ore 10
URL:https://gancio.cisti.org/event/passeggiata-resistente-1
LOCATION:Piazza Zara - Piazza Zara
STATUS:CONFIRMED
CATEGORIES:Eccidio nazista al Pian del Lot,passeggiata,Zona San Paolo Antif
	ascista
X-ALT-DESC;FMTTYPE=text/html:<p>Nella notte tra il 1 e il 2 aprile 1944 gli
	 occupanti nazifascisti commisero la più grave strage che ebbe luogo nella
	 nostra città.</p><p>27 partigiani e civili furono massacrati sulla collin
	a torinese in località Pian del Lot, dove erano installate le batterie ant
	iaeree tedesche, e gettati in una fossa comune senza segni di riconoscimen
	to.</p><p>Una strage commessa per annichilire ogni resistenza negli avvers
	ari, con una ferocia crudele per condannare all’oblio chi osava opporsi pr
	oprio come oggi assistiamo alla distruzione e al genocidio del popolo pale
	stinese. </p><p>Anche quest’anno domenica 19 aprile 2026 torneremo a passe
	ggiare e a raccontare la guerra di ieri per rivendicare il diritto alla me
	moria ed alla lotta antifascista e per ribadire con forza il nostro no ad 
	ogni aggressione armata oggi in corso.</p><p>Di fronte ad un governo compl
	ice e partecipe oggi come allora deve essere il popolo a costruire un’oppo
	sizione dal basso per fermare la follia di Trump e Netanyahu.</p><p>Vi asp
	ettiamo in Piazza Zara domenica 19 aprile 2026 alle ore 10</p>
BEGIN:VALARM
ACTION:DISPLAY
DESCRIPTION:Passeggiata Resistente
TRIGGER:-PT1H
END:VALARM
END:VEVENT
END:VCALENDAR
