BEGIN:VCALENDAR
VERSION:2.0
CALSCALE:GREGORIAN
PRODID:adamgibbons/ics
METHOD:PUBLISH
X-PUBLISHED-TTL:PT1H
BEGIN:VEVENT
UID:6725@gancio.cisti.org
SUMMARY:Il diario di Ada
DTSTAMP:20260420T003559Z
DTSTART:20260425T190000Z
DTEND:20260425T210000Z
URL:https://gancio.cisti.org/event/il-diario-di-ada
LOCATION:Teatro Vecchio Mercato - Gassino Torinese - piazza Sampieri
STATUS:CONFIRMED
CATEGORIES:
END:VEVENT
END:VCALENDAR
