BEGIN:VCALENDAR
VERSION:2.0
CALSCALE:GREGORIAN
PRODID:adamgibbons/ics
METHOD:PUBLISH
X-PUBLISHED-TTL:PT1H
BEGIN:VEVENT
UID:6703@gancio.cisti.org
SUMMARY:FESTIVAL ALTRI MONDI ALTRI MODI – VANCHIGLIA QUARTIERE PARTIGIANO
DTSTAMP:20260421T133114Z
DTSTART:20260422T160000Z
DTEND:20260422T200000Z
URL:https://gancio.cisti.org/event/festival-altri-mondi-altri-modi-vanchigl
	ia-quartiere-partigiano
LOCATION:Area Pedonale Via Balbo - Via Cesare Balbo\, 10124\, Torino
STATUS:CONFIRMED
CATEGORIES:concerto,torino,presentazione,notav,lotta
END:VEVENT
BEGIN:VEVENT
UID:6704@gancio.cisti.org
SUMMARY:FESTIVAL ALTRI MONDI ALTRI MODI – VANCHIGLIA QUARTIERE PARTIGIANO
DTSTAMP:20260421T133114Z
DTSTART:20260423T160000Z
DTEND:20260423T200000Z
URL:https://gancio.cisti.org/event/festival-altri-mondi-altri-modi-vanchigl
	ia-quartiere-partigiano-1
LOCATION:Area Pedonale Via Balbo - Via Cesare Balbo\, 10124\, Torino
STATUS:CONFIRMED
CATEGORIES:SOLIDARIETÀ,torino,lotta,notav,presentazione,solidarietà,Solidar
	ietà,Benefit,concerto,dibattito,benefit,festival
END:VEVENT
BEGIN:VEVENT
UID:6705@gancio.cisti.org
SUMMARY:FESTIVAL ALTRI MONDI ALTRI MODI – VANCHIGLIA QUARTIERE PARTIGIANO
DTSTAMP:20260421T133114Z
DTSTART:20260424T170000Z
DTEND:20260424T210000Z
URL:https://gancio.cisti.org/event/festival-altri-mondi-altri-modi-vanchigl
	ia-quartiere-partigiano-2
LOCATION:Area Pedonale Via Balbo - Via Cesare Balbo\, 10124\, Torino
STATUS:CONFIRMED
CATEGORIES:notav,presentazione,torino,assemblea,benefit,Benefit,concerto,fe
	stival
END:VEVENT
BEGIN:VEVENT
UID:6706@gancio.cisti.org
SUMMARY:FESTIVAL ALTRI MONDI ALTRI MODI – VANCHIGLIA QUARTIERE PARTIGIANO
DTSTAMP:20260421T133114Z
DTSTART:20260425T080000Z
DTEND:20260425T120000Z
URL:https://gancio.cisti.org/event/festival-altri-mondi-altri-modi-vanchigl
	ia-quartiere-partigiano-3
LOCATION:Area Pedonale Via Balbo - Via Cesare Balbo\, 10124\, Torino
STATUS:CONFIRMED
CATEGORIES:notav,torino,benefit,Benefit,concerto,festival,lotta
END:VEVENT
BEGIN:VEVENT
UID:6707@gancio.cisti.org
SUMMARY:FESTIVAL ALTRI MONDI ALTRI MODI – VANCHIGLIA QUARTIERE PARTIGIANO
DTSTAMP:20260421T133114Z
DTSTART:20260426T150000Z
DTEND:20260426T210000Z
URL:https://gancio.cisti.org/event/festival-altri-mondi-altri-modi-vanchigl
	ia-quartiere-partigiano-4
LOCATION:Area Pedonale Via Balbo - Via Cesare Balbo\, 10124\, Torino
STATUS:CONFIRMED
CATEGORIES:concerto,assemblea,benefit,Benefit,lotta,notav,presentazione,tor
	ino
END:VEVENT
BEGIN:VEVENT
UID:6709@gancio.cisti.org
SUMMARY:FESTIVAL ALTRI MONDI ALTRI MODI – VANCHIGLIA QUARTIERE PARTIGIANO
DTSTAMP:20260421T133114Z
DTSTART:20260429T160000Z
DTEND:20260429T200000Z
URL:https://gancio.cisti.org/event/festival-altri-mondi-altri-modi-vanchigl
	ia-quartiere-partigiano-6
LOCATION:Area Pedonale Via Balbo - Via Cesare Balbo\, 10124\, Torino
STATUS:CONFIRMED
CATEGORIES:concerto,torino,presentazione,notav,assemblea,benefit,Benefit,fe
	stival
END:VEVENT
BEGIN:VEVENT
UID:6710@gancio.cisti.org
SUMMARY:FESTIVAL ALTRI MONDI ALTRI MODI – VANCHIGLIA QUARTIERE PARTIGIANO
DTSTAMP:20260421T133114Z
DTSTART:20260429T183000Z
DTEND:20260429T200000Z
URL:https://gancio.cisti.org/event/festival-altri-mondi-altri-modi-vanchigl
	ia-quartiere-partigiano-7
LOCATION:Area Pedonale Via Balbo - Via Cesare Balbo\, 10124\, Torino
STATUS:CONFIRMED
CATEGORIES:benefit,Benefit,concerto,torino
END:VEVENT
BEGIN:VEVENT
UID:6711@gancio.cisti.org
SUMMARY:FESTIVAL ALTRI MONDI ALTRI MODI – VANCHIGLIA QUARTIERE PARTIGIANO
DTSTAMP:20260421T133114Z
DTSTART:20260502T080000Z
DTEND:20260502T130000Z
URL:https://gancio.cisti.org/event/festival-altri-mondi-altri-modi-vanchigl
	ia-quartiere-partigiano-8
LOCATION:Area Pedonale Via Balbo - Via Cesare Balbo\, 10124\, Torino
STATUS:CONFIRMED
CATEGORIES:presentazione,notav,concerto,benefit,Benefit,torino,Presidio,pre
	sidio
END:VEVENT
BEGIN:VEVENT
UID:6712@gancio.cisti.org
SUMMARY:FESTIVAL ALTRI MONDI ALTRI MODI – VANCHIGLIA QUARTIERE PARTIGIANO
DTSTAMP:20260421T133114Z
DTSTART:20260502T160000Z
DTEND:20260502T210000Z
URL:https://gancio.cisti.org/event/festival-altri-mondi-altri-modi-vanchigl
	ia-quartiere-partigiano-9
LOCATION:Area Pedonale Via Balbo - Via Cesare Balbo\, 10124\, Torino
STATUS:CONFIRMED
CATEGORIES:torino,benefit,Benefit,concerto,lotta,notav,presentazione
END:VEVENT
BEGIN:VEVENT
UID:6713@gancio.cisti.org
SUMMARY:FESTIVAL ALTRI MONDI ALTRI MODI – VANCHIGLIA QUARTIERE PARTIGIANO
DTSTAMP:20260421T133114Z
DTSTART:20260503T150000Z
DTEND:20260503T170000Z
URL:https://gancio.cisti.org/event/festival-altri-mondi-altri-modi-vanchigl
	ia-quartiere-partigiano-10
LOCATION:Area Pedonale Via Balbo - Via Cesare Balbo\, 10124\, Torino
STATUS:CONFIRMED
CATEGORIES:Benefit,concerto,lotta,presidio,torino,Presidio,benefit
END:VEVENT
BEGIN:VEVENT
UID:6714@gancio.cisti.org
SUMMARY:FESTIVAL ALTRI MONDI ALTRI MODI – VANCHIGLIA QUARTIERE PARTIGIANO
DTSTAMP:20260421T133114Z
DTSTART:20260503T170000Z
DTEND:20260504T100000Z
URL:https://gancio.cisti.org/event/festival-altri-mondi-altri-modi-vanchigl
	ia-quartiere-partigiano-11
LOCATION:Area Pedonale Via Balbo - Via Cesare Balbo\, 10124\, Torino
STATUS:CONFIRMED
CATEGORIES:torino,concerto,Benefit,benefit,presentazione
END:VEVENT
END:VCALENDAR
