BEGIN:VCALENDAR
VERSION:2.0
CALSCALE:GREGORIAN
PRODID:adamgibbons/ics
METHOD:PUBLISH
X-PUBLISHED-TTL:PT1H
BEGIN:VEVENT
UID:6696@gancio.cisti.org
SUMMARY:DISTRO FENIX TORNA A FENIX
DTSTAMP:20260420T021813Z
DTSTART:20260424T220000Z
URL:https://gancio.cisti.org/event/distro-fenix-torna-a-fenix
LOCATION:giardini reali - cso san maurizio angolo via rossini
STATUS:CONFIRMED
CATEGORIES:
END:VEVENT
BEGIN:VEVENT
UID:6697@gancio.cisti.org
SUMMARY:DISTRO FENIX TORNA A FENIX
DTSTAMP:20260420T021813Z
DTSTART:20260430T220000Z
URL:https://gancio.cisti.org/event/distro-fenix-torna-a-fenix-1
LOCATION:giardini reali - cso san maurizio angolo via rossini
STATUS:CONFIRMED
CATEGORIES:
END:VEVENT
END:VCALENDAR
