BEGIN:VCALENDAR
VERSION:2.0
CALSCALE:GREGORIAN
PRODID:adamgibbons/ics
METHOD:PUBLISH
X-PUBLISHED-TTL:PT1H
BEGIN:VEVENT
UID:6626@gancio.cisti.org
SUMMARY:Critical Mass
DTSTAMP:20260419T213542Z
DTSTART:20260507T170000Z
DTEND:20260507T203000Z
URL:https://gancio.cisti.org/event/critical-mass-27
LOCATION:Piazza Castello - Torino - Torino\, piazza Castello\, di fronte al
	la Prefettura
STATUS:CONFIRMED
CATEGORIES:
END:VEVENT
END:VCALENDAR
