BEGIN:VCALENDAR
VERSION:2.0
CALSCALE:GREGORIAN
PRODID:adamgibbons/ics
METHOD:PUBLISH
X-PUBLISHED-TTL:PT1H
BEGIN:VEVENT
UID:6716@gancio.cisti.org
SUMMARY:Apertura Ciclofficina Popolare Malabrocca
DTSTAMP:20260420T164609Z
DTSTART:20260424T160000Z
URL:https://gancio.cisti.org/event/apertura-ciclofficina-popolare-malabrocc
	a-16
LOCATION:Ciclofficina Malabrocca - Largo Vitale 113 - Torino
STATUS:CONFIRMED
CATEGORIES:
END:VEVENT
END:VCALENDAR
