BEGIN:VCALENDAR
VERSION:2.0
CALSCALE:GREGORIAN
PRODID:adamgibbons/ics
METHOD:PUBLISH
X-PUBLISHED-TTL:PT1H
BEGIN:VEVENT
UID:6673@gancio.cisti.org
SUMMARY:L'INTERNAZIONALISMO DI OGGI
DTSTAMP:20260421T204603Z
DTSTART:20260424T180000Z
DTEND:20260424T220000Z
URL:https://gancio.cisti.org/event/linternazionalismo-di-oggi
LOCATION:Torre Pellice - La scuoletta - via Coppieri 46
STATUS:CONFIRMED
CATEGORIES:
END:VEVENT
END:VCALENDAR
