BEGIN:VCALENDAR
VERSION:2.0
CALSCALE:GREGORIAN
PRODID:adamgibbons/ics
METHOD:PUBLISH
X-PUBLISHED-TTL:PT1H
BEGIN:VEVENT
UID:6701@gancio.cisti.org
SUMMARY:𝗔𝗕𝗢𝗟𝗜𝗥𝗘 𝗟'𝗜𝗠𝗣𝗢𝗦𝗦𝗜𝗕𝗜𝗟𝗘 𝗟𝗲 𝗳𝗼𝗿𝗺𝗲 𝗱𝗲𝗹𝗹𝗮 𝘃𝗶𝗼𝗹𝗲𝗻𝘇𝗮\, 𝗹𝗲 𝗽𝗿𝗮𝘁𝗶𝗰𝗵𝗲 𝗱𝗲𝗹𝗹𝗮 𝗹
	𝗶𝗯𝗲𝗿𝘁𝗮'
DTSTAMP:20260421T123958Z
DTSTART:20260421T163000Z
DTEND:20260421T180000Z
URL:https://gancio.cisti.org/event/6701
LOCATION:Unione culturale - via C. Battisti 4b\, Torino
STATUS:CONFIRMED
CATEGORIES:
END:VEVENT
END:VCALENDAR
