BEGIN:VCALENDAR
VERSION:2.0
CALSCALE:GREGORIAN
PRODID:adamgibbons/ics
METHOD:PUBLISH
X-PUBLISHED-TTL:PT1H
BEGIN:VEVENT
UID:6689@gancio.cisti.org
SUMMARY:Liberazioni 2026
DTSTAMP:20260420T074602Z
DTSTART:20260426T080000Z
DTEND:20260426T220000Z
URL:https://gancio.cisti.org/event/liberazioni-2026-6
LOCATION:Spazio Niño\, Pinerolo - Via Achille Midana\, 10064 Pinerolo TO\, 
	Italia
STATUS:CONFIRMED
CATEGORIES:
END:VEVENT
END:VCALENDAR
