BEGIN:VCALENDAR
VERSION:2.0
CALSCALE:GREGORIAN
PRODID:adamgibbons/ics
METHOD:PUBLISH
X-PUBLISHED-TTL:PT1H
BEGIN:VEVENT
UID:6687@gancio.cisti.org
SUMMARY:LIberazioni 2026
DTSTAMP:20260420T002742Z
DTSTART:20260425T080000Z
DTEND:20260425T160000Z
URL:https://gancio.cisti.org/event/liberazioni-2026-4
LOCATION:Rueglio (Valchiusella) - Piazza del Municipio
STATUS:CONFIRMED
CATEGORIES:
END:VEVENT
END:VCALENDAR
