BEGIN:VCALENDAR
VERSION:2.0
CALSCALE:GREGORIAN
PRODID:adamgibbons/ics
METHOD:PUBLISH
X-PUBLISHED-TTL:PT1H
BEGIN:VEVENT
UID:6726@gancio.cisti.org
SUMMARY:Letture Condivise
DTSTAMP:20260422T205933Z
DTSTART:20260426T123000Z
DTEND:20260426T180000Z
URL:https://gancio.cisti.org/event/letture-condivise-8
LOCATION:Casa Cassiopea - Magnano (BI)\, via Campi 20
STATUS:CONFIRMED
CATEGORIES:
END:VEVENT
END:VCALENDAR
