BEGIN:VCALENDAR
VERSION:2.0
CALSCALE:GREGORIAN
PRODID:adamgibbons/ics
METHOD:PUBLISH
X-PUBLISHED-TTL:PT1H
BEGIN:VEVENT
UID:6721@gancio.cisti.org
SUMMARY:Corteo del quartiere Barriera
DTSTAMP:20260419T163020Z
DTSTART:20260425T080000Z
DTEND:20260425T120000Z
URL:https://gancio.cisti.org/event/corteo-del-quartiere-barriera
LOCATION:Comitato di quartiere Barriera - Piazza Bottesini 1
STATUS:CONFIRMED
CATEGORIES:
END:VEVENT
END:VCALENDAR
