BEGIN:VCALENDAR
VERSION:2.0
CALSCALE:GREGORIAN
PRODID:adamgibbons/ics
METHOD:PUBLISH
X-PUBLISHED-TTL:PT1H
BEGIN:VEVENT
UID:6691@gancio.cisti.org
SUMMARY:GRIGLIATA ANTIFASCISTA
DTSTAMP:20260419T214218Z
DTSTART:20260424T133000Z
URL:https://gancio.cisti.org/event/grigliata-antifascista
LOCATION:Parco della Colletta - Torino
STATUS:CONFIRMED
CATEGORIES:antifascismo,banchetti,benefit,Benefit,grigliata
END:VEVENT
BEGIN:VEVENT
UID:6650@gancio.cisti.org
SUMMARY:Chieri è partigiana\, giornata del 25 Aprile
DTSTAMP:20260419T214218Z
DTSTART:20260425T073000Z
DTEND:20260425T213000Z
URL:https://gancio.cisti.org/event/chieri-e-partigiana-giornata-del-25-apri
	le
LOCATION:Chieri TO - Chieri
STATUS:CONFIRMED
CATEGORIES:corteo,Pranzo sociale,25 aprile,25 Aprile,antifascismo,chieri,co
	ncerto
END:VEVENT
BEGIN:VEVENT
UID:6723@gancio.cisti.org
SUMMARY:25 aprile Barriera e Aurora Resistenti
DTSTAMP:20260419T214218Z
DTSTART:20260425T080000Z
DTEND:20260425T130000Z
URL:https://gancio.cisti.org/event/25-aprile-barriera-e-aurora-resistenti
LOCATION:Manituana - Spazio Occupato Collettivo - Largo Maurizio Vitale 113
STATUS:CONFIRMED
CATEGORIES:25 aprile,25 Aprile,antifascismo,barriera e aurora resistenti
END:VEVENT
END:VCALENDAR
