BEGIN:VCALENDAR
VERSION:2.0
CALSCALE:GREGORIAN
PRODID:adamgibbons/ics
METHOD:PUBLISH
X-PUBLISHED-TTL:PT1H
BEGIN:VEVENT
UID:6731@gancio.cisti.org
SUMMARY:Banchetto di Porfido ai Giardini Reali
DTSTAMP:20260419T214521Z
DTSTART:20260425T140000Z
DTEND:20260425T173000Z
DESCRIPTION:Il Centro di Documentazione Porfido è chiuso\, ci trovate con i
	l nostro banchetto\nai Giardini Reali\n\nhttps://gancio.cisti.org/event/du
	e-giorni-di-fuoco-2\n[https://gancio.cisti.org/event/due-giorni-di-fuoco-2
	]
URL:https://gancio.cisti.org/event/banchetto-di-porfido-ai-giardini-reali
GEO:45.0714423;7.6962356
LOCATION:Centro di Documentazione Porfido - Via Tarino 12/c\, Torino
STATUS:CONFIRMED
CATEGORIES:
X-ALT-DESC;FMTTYPE=text/html:<p>Il Centro di Documentazione Porfido è chius
	o, ci trovate con il nostro banchetto ai Giardini Reali</p><p><a href="htt
	ps://gancio.cisti.org/event/due-giorni-di-fuoco-2" target="_blank">https:/
	/gancio.cisti.org/event/due-giorni-di-fuoco-2</a></p>
BEGIN:VALARM
ACTION:DISPLAY
DESCRIPTION:Banchetto di Porfido ai Giardini Reali
TRIGGER:-PT1H
END:VALARM
END:VEVENT
END:VCALENDAR
